BEGIN:VCALENDAR
VERSION:2.0
PRODID:-//Copper Pub and Grille - ECPv5.12.4//NONSGML v1.0//EN
CALSCALE:GREGORIAN
METHOD:PUBLISH
X-WR-CALNAME:Copper Pub and Grille
X-ORIGINAL-URL:https://copperpubandgrille.com
X-WR-CALDESC:Events for Copper Pub and Grille
REFRESH-INTERVAL;VALUE=DURATION:PT1H
X-Robots-Tag:noindex
X-PUBLISHED-TTL:PT1H
BEGIN:VTIMEZONE
TZID:America/New_York
BEGIN:DAYLIGHT
TZOFFSETFROM:-0500
TZOFFSETTO:-0400
TZNAME:EDT
DTSTART:20230312T070000
END:DAYLIGHT
BEGIN:STANDARD
TZOFFSETFROM:-0400
TZOFFSETTO:-0500
TZNAME:EST
DTSTART:20231105T060000
END:STANDARD
END:VTIMEZONE
BEGIN:VEVENT
DTSTART;TZID=America/New_York:20230505T170000
DTEND;TZID=America/New_York:20230505T170000
DTSTAMP:20260424T215604
CREATED:20230420T162227Z
LAST-MODIFIED:20230420T162227Z
UID:4023-1683306000-1683306000@copperpubandgrille.com
SUMMARY:Summer Bash
DESCRIPTION:Just around the corner! Kicking off deck season with Colt Wilbur Live!! Lots of food and drink specials!
URL:https://copperpubandgrille.com/event/summer-bash/
LOCATION:Copper Pub and Grille\, 580 N Mountain Rd.\, Harrisburg\, PA\, 17112\, United States
ATTACH;FMTTYPE=image/webp:https://copperpubandgrille.com/wp-content/uploads/2023/04/Summer-Bash.webp
END:VEVENT
END:VCALENDAR