BEGIN:VCALENDAR
VERSION:2.0
PRODID:-//Copper Pub and Grille - ECPv5.12.4//NONSGML v1.0//EN
CALSCALE:GREGORIAN
METHOD:PUBLISH
X-WR-CALNAME:Copper Pub and Grille
X-ORIGINAL-URL:https://copperpubandgrille.com
X-WR-CALDESC:Events for Copper Pub and Grille
REFRESH-INTERVAL;VALUE=DURATION:PT1H
X-Robots-Tag:noindex
X-PUBLISHED-TTL:PT1H
BEGIN:VTIMEZONE
TZID:America/New_York
BEGIN:DAYLIGHT
TZOFFSETFROM:-0500
TZOFFSETTO:-0400
TZNAME:EDT
DTSTART:20230312T070000
END:DAYLIGHT
BEGIN:STANDARD
TZOFFSETFROM:-0400
TZOFFSETTO:-0500
TZNAME:EST
DTSTART:20231105T060000
END:STANDARD
END:VTIMEZONE
BEGIN:VEVENT
DTSTART;TZID=America/New_York:20231208T190000
DTEND;TZID=America/New_York:20231208T220000
DTSTAMP:20260424T104840
CREATED:20231127T192310Z
LAST-MODIFIED:20231127T192310Z
UID:4085-1702062000-1702072800@copperpubandgrille.com
SUMMARY:Colt Wilbur Performing Live!
DESCRIPTION:Come enjoy a night of listening to Colt Wilbur Live at Copper Pub!
URL:https://copperpubandgrille.com/event/colt-wilbur-performing-live/
LOCATION:Copper Pub and Grille\, 580 N Mountain Rd.\, Harrisburg\, PA\, 17112\, United States
ATTACH;FMTTYPE=image/jpeg:https://copperpubandgrille.com/wp-content/uploads/2022/03/Open-mic-night.jpg
END:VEVENT
END:VCALENDAR