BEGIN:VCALENDAR
VERSION:2.0
PRODID:-//Copper Pub and Grille - ECPv5.12.4//NONSGML v1.0//EN
CALSCALE:GREGORIAN
METHOD:PUBLISH
X-WR-CALNAME:Copper Pub and Grille
X-ORIGINAL-URL:https://copperpubandgrille.com
X-WR-CALDESC:Events for Copper Pub and Grille
REFRESH-INTERVAL;VALUE=DURATION:PT1H
X-Robots-Tag:noindex
X-PUBLISHED-TTL:PT1H
BEGIN:VTIMEZONE
TZID:America/New_York
BEGIN:DAYLIGHT
TZOFFSETFROM:-0500
TZOFFSETTO:-0400
TZNAME:EDT
DTSTART:20230312T070000
END:DAYLIGHT
BEGIN:STANDARD
TZOFFSETFROM:-0400
TZOFFSETTO:-0500
TZNAME:EST
DTSTART:20231105T060000
END:STANDARD
END:VTIMEZONE
BEGIN:VEVENT
DTSTART;TZID=America/New_York:20230804T180000
DTEND;TZID=America/New_York:20230804T210000
DTSTAMP:20260424T153524
CREATED:20230713T184302Z
LAST-MODIFIED:20230713T184615Z
UID:4034-1691172000-1691182800@copperpubandgrille.com
SUMMARY:Clifton Bryan Performing Live!
DESCRIPTION:Come enjoy a night of listening to Clifton Bryan Live at Copper Pub!
URL:https://copperpubandgrille.com/event/clifton-bryan-performing-live/
LOCATION:Copper Pub and Grille\, 580 N Mountain Rd.\, Harrisburg\, PA\, 17112\, United States
ATTACH;FMTTYPE=image/jpeg:https://copperpubandgrille.com/wp-content/uploads/2022/03/Open-mic-night.jpg
END:VEVENT
BEGIN:VEVENT
DTSTART;TZID=America/New_York:20230811T180000
DTEND;TZID=America/New_York:20230811T210000
DTSTAMP:20260424T153524
CREATED:20230713T184429Z
LAST-MODIFIED:20230713T184622Z
UID:4038-1691776800-1691787600@copperpubandgrille.com
SUMMARY:Dave McCullough Performing Live!
DESCRIPTION:Come enjoy a night of listening to Dave McCullough Live at Copper Pub!
URL:https://copperpubandgrille.com/event/dave-mccullough-performing-live/
LOCATION:Copper Pub and Grille\, 580 N Mountain Rd.\, Harrisburg\, PA\, 17112\, United States
ATTACH;FMTTYPE=image/jpeg:https://copperpubandgrille.com/wp-content/uploads/2022/03/Open-mic-night.jpg
END:VEVENT
BEGIN:VEVENT
DTSTART;TZID=America/New_York:20230812T180000
DTEND;TZID=America/New_York:20230812T210000
DTSTAMP:20260424T153524
CREATED:20230713T184658Z
LAST-MODIFIED:20230713T184658Z
UID:4039-1691863200-1691874000@copperpubandgrille.com
SUMMARY:Lex Begins & Berkley's End Performing Live!
DESCRIPTION:Come enjoy a night of listening to Lex Begins & Berkley’s End Live at Copper Pub!
URL:https://copperpubandgrille.com/event/lex-begins-berkleys-end-performing-live/
LOCATION:Copper Pub and Grille\, 580 N Mountain Rd.\, Harrisburg\, PA\, 17112\, United States
ATTACH;FMTTYPE=image/jpeg:https://copperpubandgrille.com/wp-content/uploads/2022/03/Open-mic-night.jpg
END:VEVENT
BEGIN:VEVENT
DTSTART;TZID=America/New_York:20230818T180000
DTEND;TZID=America/New_York:20230818T210000
DTSTAMP:20260424T153524
CREATED:20230713T184755Z
LAST-MODIFIED:20230713T184755Z
UID:4040-1692381600-1692392400@copperpubandgrille.com
SUMMARY:Shane Fregme Performing Live!
DESCRIPTION:Come enjoy a night of listening to Shane Fregme Live at Copper Pub!
URL:https://copperpubandgrille.com/event/shane-fregme-performing-live/
LOCATION:Copper Pub and Grille\, 580 N Mountain Rd.\, Harrisburg\, PA\, 17112\, United States
ATTACH;FMTTYPE=image/jpeg:https://copperpubandgrille.com/wp-content/uploads/2022/03/Open-mic-night.jpg
END:VEVENT
BEGIN:VEVENT
DTSTART;TZID=America/New_York:20230819T180000
DTEND;TZID=America/New_York:20230819T210000
DTSTAMP:20260424T153524
CREATED:20230713T185003Z
LAST-MODIFIED:20230713T185003Z
UID:4046-1692468000-1692478800@copperpubandgrille.com
SUMMARY:Ragged Grace Performing Live!
DESCRIPTION:Come enjoy a night of listening to Ragged Grace Live at Copper Pub!
URL:https://copperpubandgrille.com/event/ragged-grace-performing-live/
LOCATION:Copper Pub and Grille\, 580 N Mountain Rd.\, Harrisburg\, PA\, 17112\, United States
ATTACH;FMTTYPE=image/jpeg:https://copperpubandgrille.com/wp-content/uploads/2022/03/Open-mic-night.jpg
END:VEVENT
BEGIN:VEVENT
DTSTART;TZID=America/New_York:20230825T180000
DTEND;TZID=America/New_York:20230825T210000
DTSTAMP:20260424T153524
CREATED:20230713T185049Z
LAST-MODIFIED:20230713T185049Z
UID:4047-1692986400-1692997200@copperpubandgrille.com
SUMMARY:Tequila Mule Performing Live!
DESCRIPTION:Come enjoy a night of listening to Tequila Mule Live at Copper Pub!
URL:https://copperpubandgrille.com/event/tequila-mule-performing-live/
LOCATION:Copper Pub and Grille\, 580 N Mountain Rd.\, Harrisburg\, PA\, 17112\, United States
ATTACH;FMTTYPE=image/jpeg:https://copperpubandgrille.com/wp-content/uploads/2022/03/Open-mic-night.jpg
END:VEVENT
END:VCALENDAR